BEGIN:VCALENDAR
VERSION:2.0
PRODID:-//ADAVED - ECPv6.3.2//NONSGML v1.0//EN
CALSCALE:GREGORIAN
METHOD:PUBLISH
X-WR-CALNAME:ADAVED
X-ORIGINAL-URL:https://ayurveda-dachverband.de
X-WR-CALDESC:Veranstaltungen für ADAVED
REFRESH-INTERVAL;VALUE=DURATION:PT1H
X-Robots-Tag:noindex
X-PUBLISHED-TTL:PT1H
BEGIN:VTIMEZONE
TZID:Europe/Berlin
BEGIN:DAYLIGHT
TZOFFSETFROM:+0100
TZOFFSETTO:+0200
TZNAME:CEST
DTSTART:20260329T010000
END:DAYLIGHT
BEGIN:STANDARD
TZOFFSETFROM:+0200
TZOFFSETTO:+0100
TZNAME:CET
DTSTART:20261025T010000
END:STANDARD
END:VTIMEZONE
BEGIN:VEVENT
DTSTART;TZID=Europe/Berlin:20260508T090000
DTEND;TZID=Europe/Berlin:20260509T183000
DTSTAMP:20260423T104834
CREATED:20260423T084741Z
LAST-MODIFIED:20260423T084741Z
UID:1081-1778230800-1778351400@ayurveda-dachverband.de
SUMMARY:Fachkongress der Deutschen Gesellschaft für Ayurveda e.V. 2026
DESCRIPTION:„Longevity – Traditionelle Heilkunde und moderne Wissenschaft”\nDer DGA-Kongress 2026 bringt den traditionellen Ayurveda und die moderne Medizin in einen lebendigen Dialog. Fachvorträge und praxisnahe Impulse vermitteln aktuelle Erkenntnisse aus Forschung und Anwendung und laden zur Vertiefung von Wissen und zum Gewinn neuer Perspektiven ein. Neben dem inhaltlichen Austausch bietet der Kongress Raum für inspirierende Begegnungen\, Vernetzung und Dialog rund um eine zeitgemäße\, integrative Ayurveda-Medizin.
URL:https://ayurveda-dachverband.de/events/fachkongress-der-deutschen-gesellschaft-fuer-ayurveda-e-v-2026/
LOCATION:GLS Campus Berlin\, Kastanienallee 82\, Berlin\, Berlin\, 10435\, Germany
CATEGORIES:DGA
ATTACH;FMTTYPE=image/jpeg:https://ayurveda-dachverband.de/wp-content/uploads/2026/04/DGA-Kongress_2026_Flyer.jpg
ORGANIZER;CN="Deutsche Gesellschaft f%C3%BCr Ayurveda e. V.":MAILTO:info@ayurveda-gesellschaft.de
END:VEVENT
END:VCALENDAR