BEGIN:VCALENDAR
VERSION:2.0
PRODID:-//ADAVED - ECPv6.3.2//NONSGML v1.0//EN
CALSCALE:GREGORIAN
METHOD:PUBLISH
X-ORIGINAL-URL:https://ayurveda-dachverband.de
X-WR-CALDESC:Veranstaltungen für ADAVED
REFRESH-INTERVAL;VALUE=DURATION:PT1H
X-Robots-Tag:noindex
X-PUBLISHED-TTL:PT1H
BEGIN:VTIMEZONE
TZID:Europe/Berlin
BEGIN:DAYLIGHT
TZOFFSETFROM:+0100
TZOFFSETTO:+0200
TZNAME:CEST
DTSTART:20190331T010000
END:DAYLIGHT
BEGIN:STANDARD
TZOFFSETFROM:+0200
TZOFFSETTO:+0100
TZNAME:CET
DTSTART:20191027T010000
END:STANDARD
BEGIN:DAYLIGHT
TZOFFSETFROM:+0100
TZOFFSETTO:+0200
TZNAME:CEST
DTSTART:20200329T010000
END:DAYLIGHT
BEGIN:STANDARD
TZOFFSETFROM:+0200
TZOFFSETTO:+0100
TZNAME:CET
DTSTART:20201025T010000
END:STANDARD
BEGIN:DAYLIGHT
TZOFFSETFROM:+0100
TZOFFSETTO:+0200
TZNAME:CEST
DTSTART:20210328T010000
END:DAYLIGHT
BEGIN:STANDARD
TZOFFSETFROM:+0200
TZOFFSETTO:+0100
TZNAME:CET
DTSTART:20211031T010000
END:STANDARD
BEGIN:DAYLIGHT
TZOFFSETFROM:+0100
TZOFFSETTO:+0200
TZNAME:CEST
DTSTART:20220327T010000
END:DAYLIGHT
BEGIN:STANDARD
TZOFFSETFROM:+0200
TZOFFSETTO:+0100
TZNAME:CET
DTSTART:20221030T010000
END:STANDARD
BEGIN:DAYLIGHT
TZOFFSETFROM:+0100
TZOFFSETTO:+0200
TZNAME:CEST
DTSTART:20230326T010000
END:DAYLIGHT
BEGIN:STANDARD
TZOFFSETFROM:+0200
TZOFFSETTO:+0100
TZNAME:CET
DTSTART:20231029T010000
END:STANDARD
BEGIN:DAYLIGHT
TZOFFSETFROM:+0100
TZOFFSETTO:+0200
TZNAME:CEST
DTSTART:20240331T010000
END:DAYLIGHT
BEGIN:STANDARD
TZOFFSETFROM:+0200
TZOFFSETTO:+0100
TZNAME:CET
DTSTART:20241027T010000
END:STANDARD
BEGIN:DAYLIGHT
TZOFFSETFROM:+0100
TZOFFSETTO:+0200
TZNAME:CEST
DTSTART:20250330T010000
END:DAYLIGHT
BEGIN:STANDARD
TZOFFSETFROM:+0200
TZOFFSETTO:+0100
TZNAME:CET
DTSTART:20251026T010000
END:STANDARD
BEGIN:DAYLIGHT
TZOFFSETFROM:+0100
TZOFFSETTO:+0200
TZNAME:CEST
DTSTART:20260329T010000
END:DAYLIGHT
BEGIN:STANDARD
TZOFFSETFROM:+0200
TZOFFSETTO:+0100
TZNAME:CET
DTSTART:20261025T010000
END:STANDARD
END:VTIMEZONE
BEGIN:VEVENT
DTSTART;TZID=Europe/Berlin:20260228T080000
DTEND;TZID=Europe/Berlin:20260301T130000
DTSTAMP:20260425T233446
CREATED:20251126T130502Z
LAST-MODIFIED:20260129T130957Z
UID:1072-1772265600-1772370000@ayurveda-dachverband.de
SUMMARY:DÄGAM Fachkonferenz 2026
DESCRIPTION:Die DÄGAM lädt Sie herzlich zur sechsten Ausgabe der DÄGAM-Fachkonferenz 2026 in Asperg ein. \nIn den Vorträgen werden Themen aus Praxis und Forschung behandelt.\nIm Anschluss an die Vorträge gibt es dann jeweils ausreichend Zeit für Diskussionen.\nAlle ReferentInnen praktizieren oder forschen in Deutschland und können insofern auch gut auf praktische Fragen eingehen.
URL:https://ayurveda-dachverband.de/events/daegam-fachkonferenz-2026/
LOCATION:vidya sagar Akademie\, Lammstr. 1\, Asberg\, 71697
CATEGORIES:DÄGAM
ORGANIZER;CN="D%C3%84GAM":MAILTO:office@daegam.de
END:VEVENT
BEGIN:VEVENT
DTSTART;TZID=Europe/Berlin:20250917T080000
DTEND;TZID=Europe/Berlin:20250917T080000
DTSTAMP:20260425T233446
CREATED:20250812T085127Z
LAST-MODIFIED:20250812T085213Z
UID:1058-1758096000-1758096000@ayurveda-dachverband.de
SUMMARY:Feierliche Eröffnung des Immanuel Ayurveda Zentrums
DESCRIPTION:Mit großer Freude und Überzeugung eröffnet das Immanuel Krankenhaus Berlin einen stationären Ayurveda-Bereich – ein Meilenstein in der integrativen Verbindung von traditioneller indischer Heilkunst mit moderner Medizin. \nEs erwartet Sie am Mittwoch\, den 17.09.2025\, um 13:00 Uhr in Festsaal und Loggia\, Am Kleinen Wannsee 5 A\, 14109 Berlin\, sowie im Immanuel Krankenhaus Berlin ein inspirierendes Programm mit profunden\nEinblicken in die Grundprinzipien ayurvedischer Medizin – begleitet durch kulinarische Kostproben aus der ayurvedischen Küche\, der Möglichkeit zum Austausch mit unseren Expertinnen und Experten aus Medizin\, Therapie und Ernährung. Für eine besondere Atmosphäre sorgen stimmungsvolle Klänge von Sitar und Tabla. \nFeiern Sie mit der Immanuel Albertinen Diakonie die Entstehung des neuen Kraftorts ayurvedischer Medizin. \nUm Anmeldung bis zum 20.08.2025 unter veranstaltungen@immanuelalbertinen.de  wird gebeten. \nDie Vorträge und Impulse erfolgen in Deutsch oder Englisch.
URL:https://ayurveda-dachverband.de/events/feierliche-eroeffnung-des-immanuel-ayurveda-zentrums/
LOCATION:Immanuel Albertinen Diakonie gGmbH\, Am Kleinen Wannsee 5 A\, Berlin\, Berlin\, 14109\, Germany
CATEGORIES:Immanuel Albertinen Diakonie
ATTACH;FMTTYPE=image/jpeg:https://ayurveda-dachverband.de/wp-content/uploads/2025/08/Immanuel-Ayurveda-Zentrum.jpeg
ORGANIZER;CN="Immanuel Albertinen Diakonie gGmbH":MAILTO:veranstaltungen@immanuelalbertinen.de
END:VEVENT
BEGIN:VEVENT
DTSTART;TZID=Europe/Berlin:20250529T080000
DTEND;TZID=Europe/Berlin:20250601T170000
DTSTAMP:20260425T233446
CREATED:20250208T173637Z
LAST-MODIFIED:20250208T173637Z
UID:1013-1748505600-1748797200@ayurveda-dachverband.de
SUMMARY:Fachkongress der Deutschen Gesellschaft für Ayurveda
DESCRIPTION:„Ayurveda – ganzheitlich und integrativ“\n\n\n\n\n\nDie DGA freut sich sehr\, auch 2025 dem Ayurveda im deutschsprachigen Raum wieder eine professionelle Plattform zu bieten – für Vertiefung des Wissens\, Erfahrungsaustausch und zum Setzen neuer Impulse. \nDer Ayurveda-Fachkongress der DGA leistet einen Beitrag dazu\, dass authentische Ayurveda-Medizin kompetent ausgeübt wird und Patientinnen und Patienten darin begleitet werden\, möglichst vollständige Gesundheit zu verwirklichen. \nDer Kongress steht im Zeichen der Ganzheitlichkeit des Ayurveda als traditionelles Medizinsystem und schlägt dabei eine Brücke zur modernen integrativen Medizin. \n\n\n\n\n\n\n\n\n\n\nGrößer und interaktiver\nAuch Gutes kann man manchmal noch weiter verbessern und genau das haben wir getan: Wir haben auf das Feedback der Teilnehmenden unserer letzten beiden Ayurveda-Kongresse gehört und positive Ideen  übernommen. Beim kommenden Fachkongress der DGA wird es noch mehr Möglichkeiten geben\, um sich auszutauschen und Ayurveda-Wissen zu erlangen. \n  \n\n\n\n\n\n\nDrei Ayurveda-Kurse im Vorfeld des Kongresses\nSonntag 25. Mai\, 14 Uhr bis Mittwoch 28. Mai \, 17:30 Uhr \n\nBasiskurs Maharishi Ayurveda Pulsdiagnose und Phytotherapie\nAufbaukurs Maharishi Ayurveda Pulsdiagnose und Phytotherapie\nBasiskurs ayur­vedische Baby-Marma-Massage\n\n\n\nKongress-Teilnahmegebühr:\n390 € für DGA-Mitglieder\n460 € für Nicht-Mitglieder\n190 € für Partner/innen\n30 € Rabatt auf die Kongress-Teilnahmegebühr\, wenn Sie auch an einem Kurs teilnehmen\nKongressgebühr ist inkl. Mittag- und Abendessen \nKurs-Teilnahmegebühr:\n620 € für DGA-Mitglieder\n650 € für Nicht-Mitglieder\nzuzüglich 30 € pro Tag für Mittag- und Abendessen während dem Kurs
URL:https://ayurveda-dachverband.de/events/fachkongress-der-deutschen-gesellschaft-fuer-ayurveda/
LOCATION:Ayurveda-Gesundheitszentrum „somamed”\, Reitting 4\, Geboltskirchen\, 4682\, Austria
CATEGORIES:DGA
ATTACH;FMTTYPE=image/jpeg:https://ayurveda-dachverband.de/wp-content/uploads/2025/02/Kongressankuendigung.jpg
ORGANIZER;CN="Deutsche Gesellschaft f%C3%BCr Ayurveda e. V.":MAILTO:info@ayurveda-gesellschaft.de
END:VEVENT
BEGIN:VEVENT
DTSTART;TZID=Europe/Berlin:20250222T080000
DTEND;TZID=Europe/Berlin:20250223T170000
DTSTAMP:20260425T233446
CREATED:20250208T175104Z
LAST-MODIFIED:20250208T175104Z
UID:1027-1740211200-1740330000@ayurveda-dachverband.de
SUMMARY:DÄGAM-Fachkonferenz
DESCRIPTION:Āyurveda aus der Praxis für die Praxis\nIn diesem Jahr findet die DÄGAM-Fachkonferenz nun zum sechsten Mal statt und das Motto lautet in bewährter Manier wieder „Ayurveda aus der Praxis für die Praxis“. In den Vorträgen werden verschiedene Themen aus Praxis und Forschung behandelt. Im Anschluss an die Vorträge gibt es Zeit für Diskussionen. Alle ReferentInnen praktizieren oder forschen in Deutschland oder Indien und können insofern auch gut auf praktische Fragen eingehen. \nTEILNAHMEGEBÜHR\nDÄGAM-Mitglieder: kostenfrei\nTeilnahmegebühr: € 120\,-\nErmäßigt: € 65\,-\n(Rentner\, Studenten\, Arbeitslose – bitte entsprechenden Nachweis beifügen)\nCME-Punkte sind bei der Ärztekammer Hessen beantragt.\nBitte die Teilnahmegebühr bis zum 14.02.2025 auf folgendes Konto überweisen:\nDÄGAM e.V. • Verwendungszweck: DÄGAM-Fachkonferenz 2025\nGLS Bank • DE 05 4306 0967 1261 5125 00 • GENODEM1GLS \nRücktrittsbedingungen\nIm Fall einer Absage der Konferenz durch die DÄGAM wird die Teilnahmegebühr in voller Höhe\nzurückerstattet. Erfolgt eine Absage durch einen Teilnehmer bis 3 Tage vor Konferenzbeginn wird die\nTeilnahmegebühr abzüglich einer Bearbeitungspauschale von € 50\,- zurückerstattet. Danach kann\nleider keine Rückerstattung mehr erfolgen.
URL:https://ayurveda-dachverband.de/events/daegam-fachkonferenz/
LOCATION:Habichtswald-Klinik\, Ayurveda-Klinik\, Wigandstraße 1\, Kassel-Bad Wilhelmshöhe\, Hessen\, 34131\, Deutschland
ATTACH;FMTTYPE=image/jpeg:https://ayurveda-dachverband.de/wp-content/uploads/2025/02/Banner_DAeGAM_Ayurveda-Klinik.jpg
ORGANIZER;CN="D%C3%84GAM":MAILTO:office@daegam.de
END:VEVENT
BEGIN:VEVENT
DTSTART;TZID=Europe/Berlin:20241012T150000
DTEND;TZID=Europe/Berlin:20241013T170000
DTSTAMP:20260425T233446
CREATED:20240613T182437Z
LAST-MODIFIED:20240613T182437Z
UID:947-1728745200-1728838800@ayurveda-dachverband.de
SUMMARY:26. Internationales Ayurveda Symposium
DESCRIPTION:International – innovativ – wissenschaftlich\n\n\n\nFachkonferenz für die Ayurveda-Community \n\nÜber 30 Top-Referenten aus aller Welt\nVielfältiges Programm aus Vorträgen\, Praxis-Workshops und Diskussionsrunden\nPersönlicher Austausch\, neue Impulse und fachlicher Input für alle Ayurveda-Mediziner\, -Therapeuten und -Berater\nSpannende Basisthemen auch für Ayurveda-Interressierte und Einsteiger\nAyurveda-Dinner und „Come Together“ am Samstag Abend am See\n\n\n\nIm Rahmenprogramm erwartet dich …\n\n\n\n\n\n\n…eine Zeitreise durch 30 Jahre Ayurveda in der EU und in der Schweiz: über Pioniergeist\, neue Berufsbilder und die Gesundheit von morgen\n…ein inspirierendes Ayurveda-Dinner für den ganz persönlichen Austausch mit unseren Vaidyas in familiärem Rahmen und zum Networking mit anderen Ayurveda-Experten\n…Diskussionen mit Experten zu den aktuellen Themen Rund um Beruf\, Praxis und Zukunft des Ayurveda in der Schweiz und darüber hinaus\n…die bekannte persönliche Atmosphäre des Symposiums der Europäischen Akademie für Ayurveda in Zusammenarbeit mit AMVS und HPS erstmals in der Schweiz\n\n\n\n\n\n\n\n 
URL:https://ayurveda-dachverband.de/events/26-internationales-ayurveda-symposium/
LOCATION:Hotel Seeburg\, Luzern\, Schweiz\, Seeburgstrasse 53-61\, Luzern\, Luzern\, 6006\, Schweiz
CATEGORIES:REAA
ATTACH;FMTTYPE=image/jpeg:https://ayurveda-dachverband.de/wp-content/uploads/2024/06/240606_AKA_SYM_Verbaende_1080x1080px_EN.jpeg
ORGANIZER;CN="Rosenberg gGmbH - Europ%C3%A4ische Akademie f%C3%BCr Ayurveda":MAILTO:info(at)ayurveda-akademie.org
END:VEVENT
BEGIN:VEVENT
DTSTART;TZID=Europe/Berlin:20240509T080000
DTEND;TZID=Europe/Berlin:20240512T170000
DTSTAMP:20260425T233446
CREATED:20240219T140823Z
LAST-MODIFIED:20240219T141306Z
UID:916-1715241600-1715533200@ayurveda-dachverband.de
SUMMARY:Fachkongress der Deutschen Gesellschaft für Ayurveda 2024
DESCRIPTION:Ayurveda in der Praxis: von der Diagnose zur Therapie\nErfahrungsaustausch • Vorträge • Workshops\n\n\n\n\n\nDas große Zusammenkommen\npraktizierender Ayurveda-Anwender/innen!\nDie DGA freut sich sehr\, auch in diesem Jahr dem Ayurveda in Deutschland wieder eine Plattform zu bieten – für Erfahrungsaustausch\, Vertiefung des Wissens und dem Setzen neuer Impulse. Unser Kongress steht allen Personen\, die einen Heil­beruf ausüben\, offen. \nDamit möchte die DGA einen Beitrag dazu leisten\, dass authentische Ayurveda-Medizin kompetent ausgeübt wird und Patient(inn)en darin begleitet werden ganzheitliche Gesundheit zu verwirklichen. \n\n\n\n\n\n\n\n\n\n\n17 erfahrene Expert(inn)en teilen ihr Fachwissen\nWeiterführende Informationen erhalten Sie unter https://www.ayurveda.de/ayurveda-kongress-2024/ ‎.
URL:https://ayurveda-dachverband.de/events/fachkongress-der-deutschen-gesellschaft-fuer-ayurveda-2024/
LOCATION:Friedenspalast Erfurt\, Spielbergtor 12 c\, Erfurt\, 99099\, Deutschland
ATTACH;FMTTYPE=image/png:https://ayurveda-dachverband.de/wp-content/uploads/2020/02/logo-DGA.png
ORGANIZER;CN="Deutsche Gesellschaft f%C3%BCr Ayurveda e. V.":MAILTO:info@ayurveda-gesellschaft.de
END:VEVENT
BEGIN:VEVENT
DTSTART;VALUE=DATE:20240507
DTEND;VALUE=DATE:20240508
DTSTAMP:20260425T233446
CREATED:20230629T133500Z
LAST-MODIFIED:20230809T134437Z
UID:554-1715040000-1715126399@ayurveda-dachverband.de
SUMMARY:5. Jahrestag der Gründung des ADAVED
DESCRIPTION:
URL:https://ayurveda-dachverband.de/events/jahrestag-der-gruendung-des-adaved/
LOCATION:Berlin
ATTACH;FMTTYPE=image/png:https://ayurveda-dachverband.de/wp-content/uploads/2020/02/adaved_800px.png
END:VEVENT
BEGIN:VEVENT
DTSTART;TZID=Europe/Berlin:20240120T103000
DTEND;TZID=Europe/Berlin:20240120T163000
DTSTAMP:20260425T233446
CREATED:20231215T172312Z
LAST-MODIFIED:20231215T172821Z
UID:894-1705746600-1705768200@ayurveda-dachverband.de
SUMMARY:Europäischer Ayurveda Kongress
DESCRIPTION:Der Europäische Ayurveda Kongress wird Ayurveda-Experten in Europa auf einer Plattform zusammenbringen. \n\nInformative Präsentationen\nAyurveda-Konsultationscamp\nSpannende Podiumsdiskussion\n\nWeitere Information erhalten sie hier. \n 
URL:https://ayurveda-dachverband.de/events/europaeischer-ayurveda-kongress/
LOCATION:Berlin
ATTACH;FMTTYPE=image/png:https://ayurveda-dachverband.de/wp-content/uploads/2023/12/Bildschirmfoto-2023-12-15-um-18.07.01.png
END:VEVENT
BEGIN:VEVENT
DTSTART;TZID=Europe/Berlin:20230915T080000
DTEND;TZID=Europe/Berlin:20230917T170000
DTSTAMP:20260425T233446
CREATED:20230807T081507Z
LAST-MODIFIED:20230809T142700Z
UID:604-1694764800-1694970000@ayurveda-dachverband.de
SUMMARY:25. Internationales Ayurveda Symposium
DESCRIPTION:Die Jubiläumskonferenz ist mit über 40 Fachvorträgen\, Workshops und Podiumsdiskussionen gefüllt und steht europaweit für Ayurveda-Kompetenz. Nur hier tauschen sich die Teilnehmer direkt mit den großen Persönlichkeiten des Ayurveda aus und erfahren praktisches Wissen\, das in keinem Lehrbuch steht. \nEingerahmt wird das Programm von dem besonderen Flair auf dem Campus der Europäischen Akademie für Ayurveda. Indische Gewänder setzen Akzente in den stilvollen Räumen\, die Dozenten geben beim Kaminabend vertrauliche Einblicke in ihren Werdegang – und über allem schweben Düfte aus der Ayurveda-Gourmetküche\, die den Teilnehmer die „fünf Elemente“ auf kulinarische Weise nahebringt. \nDie Eröffnungsveranstaltung am Freitag steht allen Interessierten kostenlos offen und wird mit einem Festakt auch das 30-jährige Bestehen der Akademie würdigen. \nDas Symposium findet 2023 ausschließlich live und vor Ort statt
URL:https://ayurveda-dachverband.de/events/25-internationales-ayurveda-symposium/
LOCATION:Rosenberg gGmbH – Europäische Akademie für Ayurveda\, Forsthausstrasse 6\, Birstein\, Hessen\, 63633\, Deutschland
CATEGORIES:REAA
ATTACH;FMTTYPE=image/gif:https://ayurveda-dachverband.de/wp-content/uploads/2023/08/230803_SYM_PopUp_800x533px.gif
ORGANIZER;CN="Rosenberg gGmbH - Europ%C3%A4ische Akademie f%C3%BCr Ayurveda":MAILTO:info(at)ayurveda-akademie.org
END:VEVENT
BEGIN:VEVENT
DTSTART;TZID=Europe/Berlin:20230909T080000
DTEND;TZID=Europe/Berlin:20230909T180000
DTSTAMP:20260425T233446
CREATED:20230831T142600Z
LAST-MODIFIED:20230831T144532Z
UID:626-1694246400-1694282400@ayurveda-dachverband.de
SUMMARY:Integrative Medizin bei neuropathischen Schmerzen und neurologischen Funktionsstörungen: TCM meets Ayurveda meets Schmerzmedizin meets Neurologie
DESCRIPTION:Programm als PDF herunterladen.
URL:https://ayurveda-dachverband.de/events/integrative-medizin-bei-neuropathischen-schmerzen-und-neurologischen-funktionsstoerungen-tcm-meets-ayurveda-meets-schmerzmedizin-meets-neurologie/
LOCATION:Habichtswald-Klinik\, Ayurveda-Klinik\, Wigandstraße 1\, Kassel-Bad Wilhelmshöhe\, Hessen\, 34131\, Deutschland
CATEGORIES:DÄGAM,Habichtswald-Klinik
ATTACH;FMTTYPE=image/jpeg:https://ayurveda-dachverband.de/wp-content/uploads/2023/08/Ayurveda-Klinik-Aussenansicht.jpg
ORGANIZER;CN="Habichtswald-Klinik%2C Ayurveda-Klinik":MAILTO:info(at)ayurveda-klinik.de
END:VEVENT
BEGIN:VEVENT
DTSTART;VALUE=DATE:20190507
DTEND;VALUE=DATE:20190508
DTSTAMP:20260425T233446
CREATED:20230629T143156Z
LAST-MODIFIED:20230907T185647Z
UID:546-1557187200-1557273599@ayurveda-dachverband.de
SUMMARY:Gründung des ADAVED
DESCRIPTION:
URL:https://ayurveda-dachverband.de/events/gruendung-des-adaved/
LOCATION:Berlin
ATTACH;FMTTYPE=image/jpeg:https://ayurveda-dachverband.de/wp-content/uploads/2020/02/ADAVED_Gründungsversammlung05-scaled.jpg
END:VEVENT
END:VCALENDAR