BEGIN:VCALENDAR
VERSION:2.0
PRODID:-//ADAVED - ECPv6.3.2//NONSGML v1.0//EN
CALSCALE:GREGORIAN
METHOD:PUBLISH
X-WR-CALNAME:ADAVED
X-ORIGINAL-URL:https://ayurveda-dachverband.de
X-WR-CALDESC:Events for ADAVED
REFRESH-INTERVAL;VALUE=DURATION:PT1H
X-Robots-Tag:noindex
X-PUBLISHED-TTL:PT1H
BEGIN:VTIMEZONE
TZID:Europe/Berlin
BEGIN:DAYLIGHT
TZOFFSETFROM:+0100
TZOFFSETTO:+0200
TZNAME:CEST
DTSTART:20260329T010000
END:DAYLIGHT
BEGIN:STANDARD
TZOFFSETFROM:+0200
TZOFFSETTO:+0100
TZNAME:CET
DTSTART:20261025T010000
END:STANDARD
END:VTIMEZONE
BEGIN:VEVENT
DTSTART;TZID=Europe/Berlin:20260508T080000
DTEND;TZID=Europe/Berlin:20260509T170000
DTSTAMP:20260423T170115
CREATED:20260423T085014Z
LAST-MODIFIED:20260423T085422Z
UID:1090-1778227200-1778346000@ayurveda-dachverband.de
SUMMARY:Specialist Congress of the German Society for Ayurveda e.V. 2026
DESCRIPTION:“Longevity – Traditional Medicine and Modern Science”\nThe 2026 DGA Congress brings traditional Ayurveda and modern medicine into a dynamic dialogue. Expert presentations and practical insights share the latest findings from research and clinical practice\, inviting participants to deepen their knowledge and gain new perspectives. In addition to the exchange of ideas\, the congress offers space for inspiring encounters\, networking\, and dialogue centred on a contemporary\, integrative Ayurvedic.
URL:https://ayurveda-dachverband.de/en/events/fachkongress-der-deutschen-gesellschaft-fuer-ayurveda-e-v-2026/
LOCATION:GLS Campus Berlin\, Kastanienallee 82\, Berlin\, Berlin\, 10435\, Germany
ORGANIZER;CN="German Society for Ayurveda":MAILTO:info@ayurveda-gesellschaft.de
END:VEVENT
END:VCALENDAR