BEGIN:VCALENDAR
VERSION:2.0
PRODID:-//ADAVED - ECPv6.3.2//NONSGML v1.0//EN
CALSCALE:GREGORIAN
METHOD:PUBLISH
X-WR-CALNAME:ADAVED
X-ORIGINAL-URL:https://ayurveda-dachverband.de
X-WR-CALDESC:Events for ADAVED
REFRESH-INTERVAL;VALUE=DURATION:PT1H
X-Robots-Tag:noindex
X-PUBLISHED-TTL:PT1H
BEGIN:VTIMEZONE
TZID:Europe/Berlin
BEGIN:DAYLIGHT
TZOFFSETFROM:+0100
TZOFFSETTO:+0200
TZNAME:CEST
DTSTART:20230326T010000
END:DAYLIGHT
BEGIN:STANDARD
TZOFFSETFROM:+0200
TZOFFSETTO:+0100
TZNAME:CET
DTSTART:20231029T010000
END:STANDARD
END:VTIMEZONE
BEGIN:VEVENT
DTSTART;TZID=Europe/Berlin:20230915T080000
DTEND;TZID=Europe/Berlin:20230917T170000
DTSTAMP:20260420T114547
CREATED:20230809T142956Z
LAST-MODIFIED:20240219T141612Z
UID:621-1694764800-1694970000@ayurveda-dachverband.de
SUMMARY:25th International Ayurveda Symposium
DESCRIPTION:The anniversary conference is filled with over 40 expert lectures\, workshops\, and panel discussions and stands for Ayurveda competence throughout Europe. Only here do participants exchange ideas directly with the great personalities of Ayurveda and experience practical knowledge that cannot be found in any textbook. \nThe program is framed by the special flair on the campus of the European Academy for Ayurveda. Indian robes set accents in the stylish rooms\, the lecturers give confidential insights into their careers at the fireside evening – and above it all float fragrances from the Ayurveda gourmet kitchen\, which introduces the participants to the “five elements” in a culinary way. \nThe opening event on Friday is open to all interested parties free of charge and will also honor the 30th anniversary of the Academy with a ceremony. \nThe 2023 symposium will take place exclusively live and on location
URL:https://ayurveda-dachverband.de/en/events/25th-international-ayurveda-symposium/
LOCATION:Rosenberg gGmbH – Europäische Akademie für Ayurveda\, Forsthausstrasse 6\, Birstein\, Hessen\, 63633\, Deutschland
ATTACH;FMTTYPE=image/gif:https://ayurveda-dachverband.de/wp-content/uploads/2023/08/230803_SYM_PopUp_800x533px.gif
ORGANIZER;CN="Rosenberg gGmbH - Europ%C3%A4ische Akademie f%C3%BCr Ayurveda":MAILTO:info(at)ayurveda-akademie.org
END:VEVENT
END:VCALENDAR