BEGIN:VCALENDAR
VERSION:2.0
PRODID:-//ADAVED - ECPv6.3.2//NONSGML v1.0//EN
CALSCALE:GREGORIAN
METHOD:PUBLISH
X-WR-CALNAME:ADAVED
X-ORIGINAL-URL:https://ayurveda-dachverband.de
X-WR-CALDESC:Events for ADAVED
REFRESH-INTERVAL;VALUE=DURATION:PT1H
X-Robots-Tag:noindex
X-PUBLISHED-TTL:PT1H
BEGIN:VTIMEZONE
TZID:Europe/Berlin
BEGIN:DAYLIGHT
TZOFFSETFROM:+0100
TZOFFSETTO:+0200
TZNAME:CEST
DTSTART:20190331T010000
END:DAYLIGHT
BEGIN:STANDARD
TZOFFSETFROM:+0200
TZOFFSETTO:+0100
TZNAME:CET
DTSTART:20191027T010000
END:STANDARD
BEGIN:DAYLIGHT
TZOFFSETFROM:+0100
TZOFFSETTO:+0200
TZNAME:CEST
DTSTART:20200329T010000
END:DAYLIGHT
BEGIN:STANDARD
TZOFFSETFROM:+0200
TZOFFSETTO:+0100
TZNAME:CET
DTSTART:20201025T010000
END:STANDARD
BEGIN:DAYLIGHT
TZOFFSETFROM:+0100
TZOFFSETTO:+0200
TZNAME:CEST
DTSTART:20210328T010000
END:DAYLIGHT
BEGIN:STANDARD
TZOFFSETFROM:+0200
TZOFFSETTO:+0100
TZNAME:CET
DTSTART:20211031T010000
END:STANDARD
BEGIN:DAYLIGHT
TZOFFSETFROM:+0100
TZOFFSETTO:+0200
TZNAME:CEST
DTSTART:20220327T010000
END:DAYLIGHT
BEGIN:STANDARD
TZOFFSETFROM:+0200
TZOFFSETTO:+0100
TZNAME:CET
DTSTART:20221030T010000
END:STANDARD
BEGIN:DAYLIGHT
TZOFFSETFROM:+0100
TZOFFSETTO:+0200
TZNAME:CEST
DTSTART:20230326T010000
END:DAYLIGHT
BEGIN:STANDARD
TZOFFSETFROM:+0200
TZOFFSETTO:+0100
TZNAME:CET
DTSTART:20231029T010000
END:STANDARD
BEGIN:DAYLIGHT
TZOFFSETFROM:+0100
TZOFFSETTO:+0200
TZNAME:CEST
DTSTART:20240331T010000
END:DAYLIGHT
BEGIN:STANDARD
TZOFFSETFROM:+0200
TZOFFSETTO:+0100
TZNAME:CET
DTSTART:20241027T010000
END:STANDARD
BEGIN:DAYLIGHT
TZOFFSETFROM:+0100
TZOFFSETTO:+0200
TZNAME:CEST
DTSTART:20250330T010000
END:DAYLIGHT
BEGIN:STANDARD
TZOFFSETFROM:+0200
TZOFFSETTO:+0100
TZNAME:CET
DTSTART:20251026T010000
END:STANDARD
BEGIN:DAYLIGHT
TZOFFSETFROM:+0100
TZOFFSETTO:+0200
TZNAME:CEST
DTSTART:20260329T010000
END:DAYLIGHT
BEGIN:STANDARD
TZOFFSETFROM:+0200
TZOFFSETTO:+0100
TZNAME:CET
DTSTART:20261025T010000
END:STANDARD
END:VTIMEZONE
BEGIN:VEVENT
DTSTART;TZID=Europe/Berlin:20260228T080000
DTEND;TZID=Europe/Berlin:20260301T130000
DTSTAMP:20260426T004951
CREATED:20251126T140123Z
LAST-MODIFIED:20260129T130854Z
UID:1076-1772265600-1772370000@ayurveda-dachverband.de
SUMMARY:DÄGAM Specialists Conference 2026
DESCRIPTION:The DÄGAM cordially invites you to the sixth edition of the DÄGAM Conference 2026 in Asperg. \nThe presentations will cover topics from practice and research.\nAfter the presentations\, there will be plenty of time for discussion.\nAll speakers practice or conduct research in Germany and are therefore well equipped to address practical questions.
URL:https://ayurveda-dachverband.de/en/events/daegam-specialists-conference-2026/
LOCATION:vidya sagar Akademie\, Lammstr. 1\, Asberg\, 71697
ORGANIZER;CN="D%C3%84GAM":MAILTO:office@daegam.de
END:VEVENT
BEGIN:VEVENT
DTSTART;TZID=Europe/Berlin:20250917T080000
DTEND;TZID=Europe/Berlin:20250917T080000
DTSTAMP:20260426T004951
CREATED:20250812T085106Z
LAST-MODIFIED:20250812T085106Z
UID:1061-1758096000-1758096000@ayurveda-dachverband.de
SUMMARY:Grand opening of the Immanuel Ayurveda Centre
DESCRIPTION:It is with great pleasure and conviction that the Immanuel Hospital Berlin is opening an inpatient Ayurveda unit — a milestone in the integrative combination of the traditional Indian healing arts with modern medicine. \nOn Wednesday\, September 17\, 2025\, at 1:00 p.m. in the ballroom and loggia\, Am Kleinen Wannsee 5 A\, 14109 Berlin\, as well as at Immanuel Hospital Berlin. The event will feature an inspiring program with profound insights into the basic principles of Ayurvedic medicine\, accompanied by culinary samples from Ayurvedic cuisine and the opportunity to exchange ideas with our experts in medicine\, therapy\, and nutrition. The atmospheric sounds of the sitar and tabla will create a festive atmosphere.\nCelebrate with Immanuel Albertinen Diakonie the creation of this new centre of Ayurvedic medicine. \nCelebrate the creation of the new centre of Ayurvedic medicine with Immanuel Albertinen Diakonie. Please register by August 20\, 2025\, by emailing veranstaltungen@immanuelalbertinen.de. \nThe lectures and presentations will be held in German or English. \nTranslated with DeepL.com (free version)
URL:https://ayurveda-dachverband.de/en/events/grand-opening-of-the-immanuel-ayurveda-centre/
LOCATION:Immanuel Albertinen Diakonie gGmbH\, Am Kleinen Wannsee 5 A\, Berlin\, Berlin\, 14109\, Germany
ATTACH;FMTTYPE=image/jpeg:https://ayurveda-dachverband.de/wp-content/uploads/2025/08/Immanuel-Ayurveda-Zentrum.jpeg
ORGANIZER;CN="Immanuel Albertinen Diakonie gGmbH":MAILTO:veranstaltungen@immanuelalbertinen.de
END:VEVENT
BEGIN:VEVENT
DTSTART;TZID=Europe/Berlin:20250529T080000
DTEND;TZID=Europe/Berlin:20250601T170000
DTSTAMP:20260426T004951
CREATED:20250208T173555Z
LAST-MODIFIED:20250208T175459Z
UID:1021-1748505600-1748797200@ayurveda-dachverband.de
SUMMARY:Specialist congress of the German Society for Ayurveda
DESCRIPTION:“Ayurveda – holistic and integrative”\nThe DGA is delighted to once again offer a professional platform for Ayurveda in German-speaking countries in 2025 – for deepening knowledge\, exchanging experiences and providing new impetus. \nThe Ayurveda Congress of the DGA contributes to the competent practice of authentic Ayurvedic medicine and supports patients in achieving the most complete health possible. \nThe congress focuses on the holistic nature of Ayurveda as a traditional medical system and builds a bridge to modern integrative medicine. \nLarger and more interactive\nEven good things can sometimes be improved and that is exactly what we have done: we have listened to the feedback from participants at our last two Ayurveda congresses and adopted positive ideas. At the upcoming DGA congress\, there will be even more opportunities to exchange ideas and gain Ayurveda knowledge. \n  \nThree Ayurveda courses in the run-up to the congress\nSunday\, May 25\, 2 p.m. to Wednesday\, May 28\, 5:30 p.m. \nBasic course Maharishi Ayurveda Pulse Diagnosis and Phytotherapy\nAdvanced course Maharishi Ayurveda Pulse Diagnosis and Phytotherapy\nBasic course Ayurvedic Baby-Marma-Massage \n  \nCongress participation fee:\n390 € for DGA-members\n460 € for Non-members\n190 € for partners\n30 € discount on the congress participation fee if you also take part in a course\nCongress fee includes lunch and dinner \nCourse participation fee:\n620 € for DGA-members\n650 € for non-members\nan additional € 30 per day for lunch and dinner during the course
URL:https://ayurveda-dachverband.de/en/events/fachkongress-der-deutschen-gesellschaft-fuer-ayurveda/
LOCATION:Ayurveda-Gesundheitszentrum „somamed”\, Reitting 4\, Geboltskirchen\, 4682\, Austria
ATTACH;FMTTYPE=image/jpeg:https://ayurveda-dachverband.de/wp-content/uploads/2025/02/Kongressankuendigung.jpg
ORGANIZER;CN="German Society for Ayurveda":MAILTO:info@ayurveda-gesellschaft.de
END:VEVENT
BEGIN:VEVENT
DTSTART;TZID=Europe/Berlin:20250222T080000
DTEND;TZID=Europe/Berlin:20250223T170000
DTSTAMP:20260426T004951
CREATED:20250208T175052Z
LAST-MODIFIED:20250208T175616Z
UID:1031-1740211200-1740330000@ayurveda-dachverband.de
SUMMARY:DÄGAM specialist conference
DESCRIPTION:Āyurveda from the practice for the practice\nThis year\, the DÄGAM specialist conference will take place for the sixth time and the motto will once again be “Ayurveda from practice for practice”. The lectures will cover various topics from practice and research. There will be time for discussion after the lectures. All speakers are practicing or researching in Germany or India and can therefore respond well to practical questions. \nPARTICIPATION FEE\nDÄGAM members: free of charge\nParticipation fee: € 120\nReduced fee: € 65\,-\n(pensioners\, students\, unemployed – please enclose appropriate proof)\nCME points have been applied for at the Hessen Medical Association.\nPlease transfer the participation fee to the following account by 14.02.2025:\nDÄGAM e.V. – Reason for payment: DÄGAM-Fachkonferenz 2025\nGLS Bank – DE 05 4306 0967 1261 5125 00 – GENODEM1GLS \nCancellation conditions\nIn the event of cancellation of the conference by DÄGAM\, the participation fee will be refunded in full.\nrefunded in full. If a participant cancels up to 3 days before the start of the conference\, the\nparticipation fee minus a processing fee of € 50\,- will be refunded. After that\,\nunfortunately\, no further refunds can be made.
URL:https://ayurveda-dachverband.de/en/events/daegam-fachkonferenz/
LOCATION:Habichtswald-Klinik\, Ayurveda-Klinik\, Wigandstraße 1\, Kassel-Bad Wilhelmshöhe\, Hessen\, 34131\, Deutschland
ATTACH;FMTTYPE=image/jpeg:https://ayurveda-dachverband.de/wp-content/uploads/2025/02/Banner_DAeGAM_Ayurveda-Klinik.jpg
ORGANIZER;CN="D%C3%84GAM":MAILTO:office@daegam.de
END:VEVENT
BEGIN:VEVENT
DTSTART;TZID=Europe/Berlin:20241012T150000
DTEND;TZID=Europe/Berlin:20241013T170000
DTSTAMP:20260426T004951
CREATED:20240613T182444Z
LAST-MODIFIED:20240613T182444Z
UID:949-1728745200-1728838800@ayurveda-dachverband.de
SUMMARY:26. International Ayurveda Symposium
DESCRIPTION:International – innovative – scientific\n\n\n\n\n\n\nConference for the Ayurveda community \n\nOver 30 top speakers from all over the world\nVaried program from Lectures\, practical workshops\, and discussion panels\nPersonal exchange\, new impulses\, and professional input for all Ayurvedic physicians\, therapists\, and consultants\nExciting basic topics also for Ayurveda enthusiasts and Beginner\nAyurveda dinner and “Come Together” on Saturday evening at the lake\n\n\n\n\n\n\n\n\n\nIn the supporting program\, you can expect …\n\n\n\n\n\n\n…a journey through time 30 years of Ayurveda in the EU and Switzerland: about Pioneering spirit\, New job profiles and Tomorrow’s health\n… an inspiring Ayurveda dinner for the very personal Exchange with our Vaidyas in a familiar setting and to network with other Ayurveda experts\n…discussions with experts on current topics relating to the profession\, practice\, and future of Ayurveda in Switzerland and beyond\n…the well-known personal atmosphere of the symposium of the European Academy of Ayurveda in cooperation with AMVS and HPS for the first time in Switzerland
URL:https://ayurveda-dachverband.de/en/events/26-international-ayurveda-symposium/
LOCATION:Hotel Seeburg\, Lucerne\, Switzerland\, Seeburgstrasse 53-61\, Luzern\, Luzern\, 6006\, Schweiz
ATTACH;FMTTYPE=image/jpeg:https://ayurveda-dachverband.de/wp-content/uploads/2024/06/240606_AKA_SYM_Verbaende_1080x1080px_EN-1.jpeg
ORGANIZER;CN="Rosenberg gGmbH - Europ%C3%A4ische Akademie f%C3%BCr Ayurveda":MAILTO:info(at)ayurveda-akademie.org
END:VEVENT
BEGIN:VEVENT
DTSTART;TZID=Europe/Berlin:20240509T080000
DTEND;TZID=Europe/Berlin:20240512T170000
DTSTAMP:20260426T004951
CREATED:20240219T140811Z
LAST-MODIFIED:20240219T141422Z
UID:928-1715241600-1715533200@ayurveda-dachverband.de
SUMMARY:Specialist congress of the German Society for Ayurveda 2024
DESCRIPTION:Ayurveda applied in practice: from diagnosis to therapy\nSharing experiences – lectures – workshops\nThe big get-together\nof Ayurveda practitioners!\nThe DGA is very pleased to once again offer a platform for Ayurveda in Germany this year – for sharing experiences\, deepening knowledge\, and providing new impulses. Our congress is open to all persons practicing a healing profession. \nThe DGA would like to contribute to ensuring that authentic Ayurvedic medicine is practiced competently and that patients are supported in realizing holistic health. \n17 experienced experts share their specialist knowledge \nFurther information can be found at https://www.ayurveda.de/ayurveda-kongress-2024/ (in German only).
URL:https://ayurveda-dachverband.de/en/events/fachkongress-der-deutschen-gesellschaft-fuer-ayurveda-2024/
LOCATION:Friedenspalast Erfurt\, Spielbergtor 12 c\, Erfurt\, 99099\, Deutschland
ATTACH;FMTTYPE=image/png:https://ayurveda-dachverband.de/wp-content/uploads/2020/02/logo-DGA.png
ORGANIZER;CN="German Society for Ayurveda":MAILTO:info@ayurveda-gesellschaft.de
END:VEVENT
BEGIN:VEVENT
DTSTART;VALUE=DATE:20240507
DTEND;VALUE=DATE:20240508
DTSTAMP:20260426T004951
CREATED:20230629T134414Z
LAST-MODIFIED:20230809T134509Z
UID:563-1715040000-1715126399@ayurveda-dachverband.de
SUMMARY:5th Anniversary of the foundation of the ADAVED
DESCRIPTION:
URL:https://ayurveda-dachverband.de/en/events/anniversary-of-the-foundation-of-the-adaved/
CATEGORIES:ADAVED
ATTACH;FMTTYPE=image/png:https://ayurveda-dachverband.de/wp-content/uploads/2020/02/adaved_800px.png
END:VEVENT
BEGIN:VEVENT
DTSTART;TZID=Europe/Berlin:20240120T103000
DTEND;TZID=Europe/Berlin:20240120T163000
DTSTAMP:20260426T004951
CREATED:20231215T172257Z
LAST-MODIFIED:20231215T172624Z
UID:892-1705746600-1705768200@ayurveda-dachverband.de
SUMMARY:European Ayurveda Congress
DESCRIPTION:EAC will bring together Ayurveda Experts in Europe on one platform. \n\nInformative Presentations\nAyurveda Consultation Camp\nEngaging Panel Discussion\n\nFor further information please click here. \n 
URL:https://ayurveda-dachverband.de/en/events/european-ayurveda-congress/
CATEGORIES:Uncategorised
ATTACH;FMTTYPE=image/png:https://ayurveda-dachverband.de/wp-content/uploads/2023/12/Bildschirmfoto-2023-12-15-um-18.07.01-1.png
END:VEVENT
BEGIN:VEVENT
DTSTART;TZID=Europe/Berlin:20230915T080000
DTEND;TZID=Europe/Berlin:20230917T170000
DTSTAMP:20260426T004951
CREATED:20230809T142956Z
LAST-MODIFIED:20240219T141612Z
UID:621-1694764800-1694970000@ayurveda-dachverband.de
SUMMARY:25th International Ayurveda Symposium
DESCRIPTION:The anniversary conference is filled with over 40 expert lectures\, workshops\, and panel discussions and stands for Ayurveda competence throughout Europe. Only here do participants exchange ideas directly with the great personalities of Ayurveda and experience practical knowledge that cannot be found in any textbook. \nThe program is framed by the special flair on the campus of the European Academy for Ayurveda. Indian robes set accents in the stylish rooms\, the lecturers give confidential insights into their careers at the fireside evening – and above it all float fragrances from the Ayurveda gourmet kitchen\, which introduces the participants to the “five elements” in a culinary way. \nThe opening event on Friday is open to all interested parties free of charge and will also honor the 30th anniversary of the Academy with a ceremony. \nThe 2023 symposium will take place exclusively live and on location
URL:https://ayurveda-dachverband.de/en/events/25th-international-ayurveda-symposium/
LOCATION:Rosenberg gGmbH – Europäische Akademie für Ayurveda\, Forsthausstrasse 6\, Birstein\, Hessen\, 63633\, Deutschland
ATTACH;FMTTYPE=image/gif:https://ayurveda-dachverband.de/wp-content/uploads/2023/08/230803_SYM_PopUp_800x533px.gif
ORGANIZER;CN="Rosenberg gGmbH - Europ%C3%A4ische Akademie f%C3%BCr Ayurveda":MAILTO:info(at)ayurveda-akademie.org
END:VEVENT
BEGIN:VEVENT
DTSTART;TZID=Europe/Berlin:20230909T080000
DTEND;TZID=Europe/Berlin:20230909T180000
DTSTAMP:20260426T004951
CREATED:20230831T144713Z
LAST-MODIFIED:20230831T145030Z
UID:644-1694246400-1694282400@ayurveda-dachverband.de
SUMMARY:Integrative medicine for neuropathic pain and neurological dysfunction: TCM meets Ayurveda meets Pain Medicine meets Neurology.
DESCRIPTION:Download program as PDF.
URL:https://ayurveda-dachverband.de/en/events/integrative-medicine-for-neuropathic-pain-and-neurological-dysfunction-tcm-meets-ayurveda-meets-pain-medicine-meets-neurology/
LOCATION:Habichtswald-Klinik\, Ayurveda-Klinik\, Wigandstraße 1\, Kassel-Bad Wilhelmshöhe\, Hessen\, 34131\, Deutschland
ATTACH;FMTTYPE=image/jpeg:https://ayurveda-dachverband.de/wp-content/uploads/2023/08/Ayurveda-Klinik-Aussenansicht.jpg
ORGANIZER;CN="Habichtswald-Klinik%2C Ayurveda-Klinik":MAILTO:info(at)ayurveda-klinik.de
END:VEVENT
BEGIN:VEVENT
DTSTART;VALUE=DATE:20190507
DTEND;VALUE=DATE:20190508
DTSTAMP:20260426T004951
CREATED:20230629T134516Z
LAST-MODIFIED:20230907T185850Z
UID:565-1557187200-1557273599@ayurveda-dachverband.de
SUMMARY:Founding of the Umbrella Association for Ayurveda Germany
DESCRIPTION:
URL:https://ayurveda-dachverband.de/en/events/founding-of-the-umbrella-association-for-ayurveda-germany/
ATTACH;FMTTYPE=image/jpeg:https://ayurveda-dachverband.de/wp-content/uploads/2023/06/ADAVED_Gruendungsversammlung05-768x512-1.jpg
END:VEVENT
END:VCALENDAR